BEGIN:VCALENDAR
VERSION:2.0
PRODID:-//Los Angeles Fleet Week | LA Fleet Week | Memorial Day Event - ECPv6.15.20//NONSGML v1.0//EN
CALSCALE:GREGORIAN
METHOD:PUBLISH
X-WR-CALNAME:Los Angeles Fleet Week | LA Fleet Week | Memorial Day Event
X-ORIGINAL-URL:https://lafleetweek.com
X-WR-CALDESC:Events for Los Angeles Fleet Week | LA Fleet Week | Memorial Day Event
REFRESH-INTERVAL;VALUE=DURATION:PT1H
X-Robots-Tag:noindex
X-PUBLISHED-TTL:PT1H
BEGIN:VTIMEZONE
TZID:America/Los_Angeles
BEGIN:DAYLIGHT
TZOFFSETFROM:-0800
TZOFFSETTO:-0700
TZNAME:PDT
DTSTART:20220313T100000
END:DAYLIGHT
BEGIN:STANDARD
TZOFFSETFROM:-0700
TZOFFSETTO:-0800
TZNAME:PST
DTSTART:20221106T090000
END:STANDARD
BEGIN:DAYLIGHT
TZOFFSETFROM:-0800
TZOFFSETTO:-0700
TZNAME:PDT
DTSTART:20230312T100000
END:DAYLIGHT
BEGIN:STANDARD
TZOFFSETFROM:-0700
TZOFFSETTO:-0800
TZNAME:PST
DTSTART:20231105T090000
END:STANDARD
BEGIN:DAYLIGHT
TZOFFSETFROM:-0800
TZOFFSETTO:-0700
TZNAME:PDT
DTSTART:20240310T100000
END:DAYLIGHT
BEGIN:STANDARD
TZOFFSETFROM:-0700
TZOFFSETTO:-0800
TZNAME:PST
DTSTART:20241103T090000
END:STANDARD
END:VTIMEZONE
BEGIN:VEVENT
DTSTART;TZID=America/Los_Angeles:20230529T163000
DTEND;TZID=America/Los_Angeles:20230529T173000
DTSTAMP:20260421T193239
CREATED:20230513T001309Z
LAST-MODIFIED:20230513T001309Z
UID:79098-1685377800-1685381400@lafleetweek.com
SUMMARY:Navy Band Southwest Parade Band at Disneyland
DESCRIPTION:Navy Band Southwest’s Ceremonial Band has been the hallmark of military tradition and musical excellence in San Diego since the bandâ€™s establishment in 1923. These impressive\, highly polishedÂ musicians provide traditional military musical support for Navy commands throughout the Southwestern United States. \nConsisting of 18 to 35 instrumentalists\, the band performs a myriad of musical styles\, from the marches of Henry Fillmore\, Kenneth Alford\, and John Phillip Sousa to the modern compositions of Aaron Copland and John Williams. \nThey’ll be performing in a flag retreat ceremony and a parade at Disneyland this afternoon from 4:30 PM – 5:30 PM.
URL:https://lafleetweek.com/event/navy-band-southwest-parade-band-at-disneyland/
LOCATION:Disneyland
CATEGORIES:Public Event
ATTACH;FMTTYPE=image/jpeg:https://lafleetweek.com/wp-content/uploads/2023/05/navy-band-sw-ceremonial.jpg
END:VEVENT
END:VCALENDAR