BEGIN:VCALENDAR
VERSION:2.0
PRODID:-//Los Angeles Fleet Week | LA Fleet Week | Memorial Day Event - ECPv6.15.20//NONSGML v1.0//EN
CALSCALE:GREGORIAN
METHOD:PUBLISH
X-WR-CALNAME:Los Angeles Fleet Week | LA Fleet Week | Memorial Day Event
X-ORIGINAL-URL:https://lafleetweek.com
X-WR-CALDESC:Events for Los Angeles Fleet Week | LA Fleet Week | Memorial Day Event
REFRESH-INTERVAL;VALUE=DURATION:PT1H
X-Robots-Tag:noindex
X-PUBLISHED-TTL:PT1H
BEGIN:VTIMEZONE
TZID:America/Los_Angeles
BEGIN:DAYLIGHT
TZOFFSETFROM:-0800
TZOFFSETTO:-0700
TZNAME:PDT
DTSTART:20220313T100000
END:DAYLIGHT
BEGIN:STANDARD
TZOFFSETFROM:-0700
TZOFFSETTO:-0800
TZNAME:PST
DTSTART:20221106T090000
END:STANDARD
BEGIN:DAYLIGHT
TZOFFSETFROM:-0800
TZOFFSETTO:-0700
TZNAME:PDT
DTSTART:20230312T100000
END:DAYLIGHT
BEGIN:STANDARD
TZOFFSETFROM:-0700
TZOFFSETTO:-0800
TZNAME:PST
DTSTART:20231105T090000
END:STANDARD
BEGIN:DAYLIGHT
TZOFFSETFROM:-0800
TZOFFSETTO:-0700
TZNAME:PDT
DTSTART:20240310T100000
END:DAYLIGHT
BEGIN:STANDARD
TZOFFSETFROM:-0700
TZOFFSETTO:-0800
TZNAME:PST
DTSTART:20241103T090000
END:STANDARD
END:VTIMEZONE
BEGIN:VEVENT
DTSTART;TZID=America/Los_Angeles:20230525T180000
DTEND;TZID=America/Los_Angeles:20230525T220000
DTSTAMP:20260419T090714
CREATED:20230503T233524Z
LAST-MODIFIED:20230510T153428Z
UID:76840-1685037600-1685052000@lafleetweek.com
SUMMARY:Downtown San Pedro Welcome Party
DESCRIPTION:Come check out San Pedroâ€™s official welcome party to kick off LA Fleet Week 2023! The Swing Band will be performing in San Pedroâ€™s business district between 5:00pm to 6:00pm. The Military band will be following right after that and ending the night off with the band called Midlife Crisis. \nConsisting of approximately 50 Marine musicians\, the mission of the 1st Marine Division Band is to provide musical support to the 1st Marine Division as well as other tenant commands aboard Camp Pendleton\, the surrounding community\, and throughout the United States. The band fulfills numerous musical requirements by performing as a military marching band\, wind ensemble\, jazz band\, popular music group\, jazz combo\, brass band\, woodwind quartet\, brass quintet\, and saxophone quartet. Overall\, the band supports over 400 engagements annually. \nâ€San Pedro is home to the world-famous LA Fleet Week and Southern Californiaâ€™s Beginning-of Summer Tradition on Memorial Day! LA Fleet WeekÂ® is an annual\, multi-day celebration of our nationâ€™s Sea Services held on the LA Waterfront at the Port of Los Angeles over the extended Memorial Day Weekend. Past events have included active duty ship tours\, military displays and equipment demonstrations\, live entertainment\, aircraft flyovers\, STEM Expo for kids of all ages\, sports tournaments\, and the Galley Wars culinary cook-off competition between Sailor\, Marine & Coastguard teams. Lots of fun for the entire family. And best of all\, entrance is FREE to the general public! The LA Fleet Week Foundation is the 501(c)(3) non-profit organization established to plan and support LA Fleet Week\, Los Angeles’ largest Memorial Day weekend event. LA Fleet Week was created through a unique public-private partnership to connect Southern Californians with the men and women of our United States Sea Services. These connections are facilitated through numerous outreach and engagement opportunities across the region and at a centralized event location on the LA Waterfront at Americaâ€™s largest port.
URL:https://lafleetweek.com/event/downtown-san-pedro-welcome-party/
LOCATION:Downtown San Pedro
CATEGORIES:Public Event
ATTACH;FMTTYPE=image/jpeg:https://lafleetweek.com/wp-content/uploads/2023/05/FLEETWEEK-FLYER-R2-scaled.jpg
END:VEVENT
END:VCALENDAR