BEGIN:VCALENDAR
VERSION:2.0
PRODID:-//Los Angeles Fleet Week | LA Fleet Week | Memorial Day Event - ECPv6.15.20//NONSGML v1.0//EN
CALSCALE:GREGORIAN
METHOD:PUBLISH
X-ORIGINAL-URL:https://lafleetweek.com
X-WR-CALDESC:Events for Los Angeles Fleet Week | LA Fleet Week | Memorial Day Event
REFRESH-INTERVAL;VALUE=DURATION:PT1H
X-Robots-Tag:noindex
X-PUBLISHED-TTL:PT1H
BEGIN:VTIMEZONE
TZID:America/Los_Angeles
BEGIN:DAYLIGHT
TZOFFSETFROM:-0800
TZOFFSETTO:-0700
TZNAME:PDT
DTSTART:20220313T100000
END:DAYLIGHT
BEGIN:STANDARD
TZOFFSETFROM:-0700
TZOFFSETTO:-0800
TZNAME:PST
DTSTART:20221106T090000
END:STANDARD
BEGIN:DAYLIGHT
TZOFFSETFROM:-0800
TZOFFSETTO:-0700
TZNAME:PDT
DTSTART:20230312T100000
END:DAYLIGHT
BEGIN:STANDARD
TZOFFSETFROM:-0700
TZOFFSETTO:-0800
TZNAME:PST
DTSTART:20231105T090000
END:STANDARD
BEGIN:DAYLIGHT
TZOFFSETFROM:-0800
TZOFFSETTO:-0700
TZNAME:PDT
DTSTART:20240310T100000
END:DAYLIGHT
BEGIN:STANDARD
TZOFFSETFROM:-0700
TZOFFSETTO:-0800
TZNAME:PST
DTSTART:20241103T090000
END:STANDARD
END:VTIMEZONE
BEGIN:VTIMEZONE
TZID:UTC
BEGIN:STANDARD
TZOFFSETFROM:+0000
TZOFFSETTO:+0000
TZNAME:UTC
DTSTART:20220101T000000
END:STANDARD
END:VTIMEZONE
BEGIN:VEVENT
DTSTART;TZID=America/Los_Angeles:20230526T100000
DTEND;TZID=America/Los_Angeles:20230526T180000
DTSTAMP:20260420T132657
CREATED:20230518T155249Z
LAST-MODIFIED:20230518T163414Z
UID:79803-1685095200-1685124000@lafleetweek.com
SUMMARY:Main LA Fleet Week EXPO
DESCRIPTION:The main LA Fleet Week EXPO adjacent to Battleship IOWA is open daily from 10:00 AM to 6:00 PM. Come check out: \n\n\n\nMilitary displays and equipment demonstrations\nLive entertainment\nAircraft flyovers\nGalley Wars presented by FOX Entertainment – culinary cook-off competition between Navy\, Marine Corps\, Coast Guard\, and Army teams\nCompetitions including Dodgeball presented by FOX Studios\nMilitary band performances\n\n\n\nLots of fun for the entire family. And best of all\, the weekend event is FREE to the general public! \nThe EXPO is also where you’ll catch a shuttle bus to head to the Outer Harbor for ship tours. (For more information on ship tours\, click here.)
URL:https://lafleetweek.com/event/main-la-fleet-week-expo/2023-05-26/
LOCATION:Battleship IOWA\, 250 S. Harbor Blvd.\, San Pedro\, CA\, 90731
CATEGORIES:Public Event
ATTACH;FMTTYPE=image/jpeg:https://lafleetweek.com/wp-content/uploads/2023/01/DSC02303-1-scaled.jpg
ORGANIZER;CN="LA Fleet Week":MAILTO:info@lafleetweek.org
END:VEVENT
BEGIN:VEVENT
DTSTART;TZID=America/Los_Angeles:20230529T133000
DTEND;TZID=America/Los_Angeles:20230529T150000
DTSTAMP:20260420T132657
CREATED:20230505T215346Z
LAST-MODIFIED:20230505T215346Z
UID:77977-1685367000-1685372400@lafleetweek.com
SUMMARY:Live Entertainment: Military Has Talent FINALS!
DESCRIPTION:A sailor who’s a swing dancer. A soldier doing stand-up. A mandolin-playing Marine. A Coastie crooning smoky blues. A ventriloquist veteran. \nWhat do they have in common? We’re putting them on the LA Fleet Week main EXPO stage to strut their stuff in front of our celebrity judges and an audience of thousands. \nFor three days we’ve been holding qualifying rounds. Today –Memorial Day\, Monday\, May 28\, 2023 – is the epic final. \nJoin us at the LA Fleet Week main stage from 1:30 – 3:00 PM to see who wins it all! You never know. The next big star may be born right before your eyes. \n 
URL:https://lafleetweek.com/event/live-entertainment-military-has-talent-finals/
LOCATION:Main Expo Footprint at the Battleship IOWA\, 250 S. Harbor Blvd.\, San Pedro\, CA\, 95236\, United States
CATEGORIES:Public Event
ATTACH;FMTTYPE=image/png:https://lafleetweek.com/wp-content/uploads/2023/04/MILITARY-HAS-TALENT_GLITTER.png
ORGANIZER;CN="LA Fleet Week":MAILTO:info@lafleetweek.org
END:VEVENT
BEGIN:VEVENT
DTSTART;TZID=UTC:20230529T170000
DTEND;TZID=UTC:20230529T180000
DTSTAMP:20260420T132657
CREATED:20220406T025124Z
LAST-MODIFIED:20230511T233000Z
UID:1292-1685379600-1685383200@lafleetweek.com
SUMMARY:LA Fleet Week Memorial Day Evening Service at Main Expo
DESCRIPTION:Join us for our Memorial Day Evening Service at the Main Expo to remember our heroes.
URL:https://lafleetweek.com/event/la-fleet-week-memorial-day-sunset-service-at-main-expo/
LOCATION:Main Expo Footprint at the Battleship IOWA\, 250 S. Harbor Blvd.\, San Pedro\, CA\, 95236\, United States
CATEGORIES:Public Event
ATTACH;FMTTYPE=image/jpeg:https://lafleetweek.com/wp-content/uploads/2022/04/Memorial_Day_2022_color_guard.jpg
ORGANIZER;CN="LA Fleet Week":MAILTO:info@lafleetweek.org
END:VEVENT
END:VCALENDAR