BEGIN:VCALENDAR
VERSION:2.0
PRODID:-//Los Angeles Fleet Week | LA Fleet Week | Memorial Day Event - ECPv6.15.20//NONSGML v1.0//EN
CALSCALE:GREGORIAN
METHOD:PUBLISH
X-WR-CALNAME:Los Angeles Fleet Week | LA Fleet Week | Memorial Day Event
X-ORIGINAL-URL:https://lafleetweek.com
X-WR-CALDESC:Events for Los Angeles Fleet Week | LA Fleet Week | Memorial Day Event
REFRESH-INTERVAL;VALUE=DURATION:PT1H
X-Robots-Tag:noindex
X-PUBLISHED-TTL:PT1H
BEGIN:VTIMEZONE
TZID:America/Los_Angeles
BEGIN:DAYLIGHT
TZOFFSETFROM:-0800
TZOFFSETTO:-0700
TZNAME:PDT
DTSTART:20220313T100000
END:DAYLIGHT
BEGIN:STANDARD
TZOFFSETFROM:-0700
TZOFFSETTO:-0800
TZNAME:PST
DTSTART:20221106T090000
END:STANDARD
BEGIN:DAYLIGHT
TZOFFSETFROM:-0800
TZOFFSETTO:-0700
TZNAME:PDT
DTSTART:20230312T100000
END:DAYLIGHT
BEGIN:STANDARD
TZOFFSETFROM:-0700
TZOFFSETTO:-0800
TZNAME:PST
DTSTART:20231105T090000
END:STANDARD
BEGIN:DAYLIGHT
TZOFFSETFROM:-0800
TZOFFSETTO:-0700
TZNAME:PDT
DTSTART:20240310T100000
END:DAYLIGHT
BEGIN:STANDARD
TZOFFSETFROM:-0700
TZOFFSETTO:-0800
TZNAME:PST
DTSTART:20241103T090000
END:STANDARD
END:VTIMEZONE
BEGIN:VEVENT
DTSTART;TZID=America/Los_Angeles:20230526T100000
DTEND;TZID=America/Los_Angeles:20230526T180000
DTSTAMP:20260420T144438
CREATED:20230518T155249Z
LAST-MODIFIED:20230518T163414Z
UID:79803-1685095200-1685124000@lafleetweek.com
SUMMARY:Main LA Fleet Week EXPO
DESCRIPTION:The main LA Fleet Week EXPO adjacent to Battleship IOWA is open daily from 10:00 AM to 6:00 PM. Come check out: \n\n\n\nMilitary displays and equipment demonstrations\nLive entertainment\nAircraft flyovers\nGalley Wars presented by FOX Entertainment – culinary cook-off competition between Navy\, Marine Corps\, Coast Guard\, and Army teams\nCompetitions including Dodgeball presented by FOX Studios\nMilitary band performances\n\n\n\nLots of fun for the entire family. And best of all\, the weekend event is FREE to the general public! \nThe EXPO is also where you’ll catch a shuttle bus to head to the Outer Harbor for ship tours. (For more information on ship tours\, click here.)
URL:https://lafleetweek.com/event/main-la-fleet-week-expo/2023-05-26/
LOCATION:Battleship IOWA\, 250 S. Harbor Blvd.\, San Pedro\, CA\, 90731
CATEGORIES:Public Event
ATTACH;FMTTYPE=image/jpeg:https://lafleetweek.com/wp-content/uploads/2023/01/DSC02303-1-scaled.jpg
ORGANIZER;CN="LA Fleet Week":MAILTO:info@lafleetweek.org
END:VEVENT
END:VCALENDAR