BEGIN:VCALENDAR
VERSION:2.0
PRODID:-//Los Angeles Fleet Week | LA Fleet Week | Memorial Day Event - ECPv6.15.20//NONSGML v1.0//EN
CALSCALE:GREGORIAN
METHOD:PUBLISH
X-ORIGINAL-URL:https://lafleetweek.com
X-WR-CALDESC:Events for Los Angeles Fleet Week | LA Fleet Week | Memorial Day Event
REFRESH-INTERVAL;VALUE=DURATION:PT1H
X-Robots-Tag:noindex
X-PUBLISHED-TTL:PT1H
BEGIN:VTIMEZONE
TZID:America/Los_Angeles
BEGIN:DAYLIGHT
TZOFFSETFROM:-0800
TZOFFSETTO:-0700
TZNAME:PDT
DTSTART:20220313T100000
END:DAYLIGHT
BEGIN:STANDARD
TZOFFSETFROM:-0700
TZOFFSETTO:-0800
TZNAME:PST
DTSTART:20221106T090000
END:STANDARD
BEGIN:DAYLIGHT
TZOFFSETFROM:-0800
TZOFFSETTO:-0700
TZNAME:PDT
DTSTART:20230312T100000
END:DAYLIGHT
BEGIN:STANDARD
TZOFFSETFROM:-0700
TZOFFSETTO:-0800
TZNAME:PST
DTSTART:20231105T090000
END:STANDARD
BEGIN:DAYLIGHT
TZOFFSETFROM:-0800
TZOFFSETTO:-0700
TZNAME:PDT
DTSTART:20240310T100000
END:DAYLIGHT
BEGIN:STANDARD
TZOFFSETFROM:-0700
TZOFFSETTO:-0800
TZNAME:PST
DTSTART:20241103T090000
END:STANDARD
BEGIN:DAYLIGHT
TZOFFSETFROM:-0800
TZOFFSETTO:-0700
TZNAME:PDT
DTSTART:20250309T100000
END:DAYLIGHT
BEGIN:STANDARD
TZOFFSETFROM:-0700
TZOFFSETTO:-0800
TZNAME:PST
DTSTART:20251102T090000
END:STANDARD
BEGIN:DAYLIGHT
TZOFFSETFROM:-0800
TZOFFSETTO:-0700
TZNAME:PDT
DTSTART:20260308T100000
END:DAYLIGHT
BEGIN:STANDARD
TZOFFSETFROM:-0700
TZOFFSETTO:-0800
TZNAME:PST
DTSTART:20261101T090000
END:STANDARD
END:VTIMEZONE
BEGIN:VEVENT
DTSTART;TZID=America/Los_Angeles:20250525T170000
DTEND;TZID=America/Los_Angeles:20250525T210000
DTSTAMP:20260422T062909
CREATED:20240430T223314Z
LAST-MODIFIED:20250508T223910Z
UID:156054-1748192400-1748206800@lafleetweek.com
SUMMARY:West Harbor After Party
DESCRIPTION:Head over to West Harbor LA Saturday 5/25 and Sunday 5/26 from 5-9 PM over Memorial Day weekend as they host the official LA Fleet Week After Party at West Harbor. Food trucks\, beer + cocktails\, and a live DJ to celebrate by the sea here at the Promenade at Berth 84/6th Street! \n(Event is 21+ ) \nBeer Garden opens at 2:00pm plus live music with headliners: \nSaturday\, May 24\n– MLC Band from 5:15pm-7:00pm\n– DJ Rich Girl from 7:00pm-9:00pm \nSunday\, May 25\n– Drift Away from 5:15pm-7:00pm\n– DJ Rich Girl from 7:00pm-9:00pm
URL:https://lafleetweek.com/event/west-harbor-after-party/2025-05-25/
LOCATION:Throughout Los Angeles Area\, Los Angeles\, CA
CATEGORIES:Public Event
ATTACH;FMTTYPE=image/jpeg:https://lafleetweek.com/wp-content/uploads/2024/04/west-harbor-overview.jpg
ORGANIZER;CN="LA Fleet Week":MAILTO:info@lafleetweek.org
END:VEVENT
BEGIN:VEVENT
DTSTART;TZID=America/Los_Angeles:20250524T170000
DTEND;TZID=America/Los_Angeles:20250524T210000
DTSTAMP:20260422T062909
CREATED:20240430T223314Z
LAST-MODIFIED:20250508T223909Z
UID:120795-1748106000-1748120400@lafleetweek.com
SUMMARY:West Harbor After Party
DESCRIPTION:Head over to West Harbor LA Saturday 5/25 and Sunday 5/26 from 5-9 PM over Memorial Day weekend as they host the official LA Fleet Week After Party at West Harbor. Food trucks\, beer + cocktails\, and a live DJ to celebrate by the sea here at the Promenade at Berth 84/6th Street! \n(Event is 21+ ) \nBeer Garden opens at 2:00pm plus live music with headliners: \nSaturday\, May 24\n– MLC Band from 5:15pm-7:00pm\n– DJ Rich Girl from 7:00pm-9:00pm \nSunday\, May 25\n– Drift Away from 5:15pm-7:00pm\n– DJ Rich Girl from 7:00pm-9:00pm
URL:https://lafleetweek.com/event/west-harbor-after-party/2025-05-24/
LOCATION:Throughout Los Angeles Area\, Los Angeles\, CA
CATEGORIES:Public Event
ATTACH;FMTTYPE=image/jpeg:https://lafleetweek.com/wp-content/uploads/2024/04/west-harbor-overview.jpg
ORGANIZER;CN="LA Fleet Week":MAILTO:info@lafleetweek.org
END:VEVENT
BEGIN:VEVENT
DTSTART;TZID=America/Los_Angeles:20230528T173000
DTEND;TZID=America/Los_Angeles:20230528T200000
DTSTAMP:20260422T062909
CREATED:20230513T000634Z
LAST-MODIFIED:20230513T000634Z
UID:79095-1685295000-1685304000@lafleetweek.com
SUMMARY:Long Beach Navy Memorial Sunset Service featuring Navy Band Southwest's Brass Quintet
DESCRIPTION:Honoring Our Heroes â€“ A Sunset Ceremony will take place from 5:30 to 8 p.m. on Sunday\, May 28\, at the Long Beach Navy Memorial in Shoreline Aquatic Park (200 Aquarium Way). Free parking is available in the lot adjacent to the Navy Memorial site. \nThe program will include: \n\nPatriotic music provided by the Navy Band Southwest Harborside Brass Quintet\nFlyovers with historic aircraft\nDrills by Lakewood High Schoolâ€™s Navy Junior Reserve Officer Training Corps\nAn information fair and activities featuring the Historical Society of Long Beach\, People of the Earth Krew and other local community-based organizations\nA brief program\, starting at 6:45 p.m.\, with guest speakers\, including acclaimed artist Terry Braunstein\, who created Navysphere\, the large public artwork that is the centerpiece of the Navy Memorial\, and keynote speaker Sergeant Major Charles Cook Jr. (US Marine Corps\, retired)\, President of the Los Angeles Chapter of the Montford Point Marines\nAt sunset\, a flag ceremony and the playing of Taps to honor our fallen service members.
URL:https://lafleetweek.com/event/long-beach-navy-memorial-sunset-service-featuring-navy-band-southwests-brass-quintet/
LOCATION:Throughout Los Angeles Area\, Los Angeles\, CA
CATEGORIES:Public Event
ATTACH;FMTTYPE=image/jpeg:https://lafleetweek.com/wp-content/uploads/2023/05/navy-band-sw-brass-quintet.jpg
END:VEVENT
BEGIN:VEVENT
DTSTART;TZID=America/Los_Angeles:20230527T193000
DTEND;TZID=America/Los_Angeles:20230527T210000
DTSTAMP:20260422T062909
CREATED:20230512T235851Z
LAST-MODIFIED:20230512T235851Z
UID:79092-1685215800-1685221200@lafleetweek.com
SUMMARY:Neighborhood Activation Venice: Navy Band Southwest Brass Band
DESCRIPTION:Navy Band Southwest gives you a taste of New Orleans with theÂ 32ndStreet Brass Band! The bandâ€™s energetic performances will transport you to Bourbon Street. The 32nd Street Brass Band performs upbeat music for homecoming ship arrivals and community events. By incorporating the styles of jazz\, funk\, Dixieland\, and R&B\, the 32nd Street Brass Band will be sure to keep you moving and entertained. \nThe 32nd Street Brass Band brings a party atmosphere to Washington Square (Washington Blvd and Ocean Front Walk) from 7:30 PM â€“ 9:00 PM Saturday\, May 27\, 2023.
URL:https://lafleetweek.com/event/neighborhood-activation-venice-navy-band-southwest-brass-band/
LOCATION:Throughout Los Angeles Area\, Los Angeles\, CA
CATEGORIES:Public Event
ATTACH;FMTTYPE=image/jpeg:https://lafleetweek.com/wp-content/uploads/2023/05/navy_band_sw_brass_band_32nd_st.jpg
ORGANIZER;CN="LA Fleet Week":MAILTO:info@lafleetweek.org
END:VEVENT
BEGIN:VEVENT
DTSTART;TZID=America/Los_Angeles:20230527T180000
DTEND;TZID=America/Los_Angeles:20230527T190000
DTSTAMP:20260422T062909
CREATED:20230512T235222Z
LAST-MODIFIED:20230512T235222Z
UID:79089-1685210400-1685214000@lafleetweek.com
SUMMARY:Neighborhood Activation Venice: Marine Band San Diego
DESCRIPTION:Marine Band San Diegoâ€™s Brass BandÂ is a New Orleans-style brass band that is sure to get anyone on their feet. With all the music being arranged and written by the members of the ensemble\, this group brings a taste of the â€œBig Easyâ€ to any crowd with its traditional New Orleans brass music all the way to the hip\, top 40 music heard around the world today. \nCome see them this evening from 6-7 PM at Washington Square in Venice (Washington Blvd and Ocean Front Walk).
URL:https://lafleetweek.com/event/neighborhood-activation-venice-marine-band-san-diego/
LOCATION:Throughout Los Angeles Area\, Los Angeles\, CA
CATEGORIES:Public Event
ATTACH;FMTTYPE=image/jpeg:https://lafleetweek.com/wp-content/uploads/2023/04/Marine_Band_San_Diego_crop.jpg
ORGANIZER;CN="LA Fleet Week":MAILTO:info@lafleetweek.org
END:VEVENT
BEGIN:VEVENT
DTSTART;TZID=America/Los_Angeles:20230526T170000
DTEND;TZID=America/Los_Angeles:20230526T203000
DTSTAMP:20260422T062909
CREATED:20230512T233127Z
LAST-MODIFIED:20230518T234634Z
UID:79084-1685120400-1685133000@lafleetweek.com
SUMMARY:Wilmington Welcome Party
DESCRIPTION:Friday\, May 26th\, the City of Wilmington will open its beautifulÂ Banning House Museum to welcome LA Fleet Week from 5:30 PM – 8:30 PM. \nThe reception will include hosted food and drinks\, music\, and self-guided tours of the historic Banning residence. \nBanning House Museum is located at 401 East M Street\, Wilmington\, CA 90744
URL:https://lafleetweek.com/event/wilmington-welcome-party/
LOCATION:Throughout Los Angeles Area\, Los Angeles\, CA
CATEGORIES:Public Event
ATTACH;FMTTYPE=image/jpeg:https://lafleetweek.com/wp-content/uploads/2023/05/220527-LA-Fleet-Week-Wilmington-Welcome-Reception-SJ-049-scaled.jpg
ORGANIZER;CN="LA Fleet Week":MAILTO:info@lafleetweek.org
END:VEVENT
BEGIN:VEVENT
DTSTART;TZID=America/Los_Angeles:20230526T170000
DTEND;TZID=America/Los_Angeles:20230526T183000
DTSTAMP:20260422T062909
CREATED:20230512T232130Z
LAST-MODIFIED:20230512T232130Z
UID:79080-1685120400-1685125800@lafleetweek.com
SUMMARY:Neighborhood Activation Brea: Navy Band Southwest 32 Street Brass Band
DESCRIPTION:Navy Band Southwest gives you a taste of New Orleans with the 32ndStreet Brass Band! The bandâ€™s energetic performances will transport you to Bourbon Street. The 32nd Street Brass Band performs upbeat music for homecoming ship arrivals and community events. By incorporating the styles of jazz\, funk\, Dixieland\, and R&B\, the 32nd Street Brass Band will be sure to keep you moving and entertained. \nThe 32nd Street Brass Band brings a party atmosphere to Angel Stadium of Anaheim from 5:00 PM – 6:30 PM Friday\, May 26\, 2023.
URL:https://lafleetweek.com/event/neighborhood-activation-brea-navy-band-southwest-32-street-brass-band/
LOCATION:Throughout Los Angeles Area\, Los Angeles\, CA
CATEGORIES:Public Event
ATTACH;FMTTYPE=image/jpeg:https://lafleetweek.com/wp-content/uploads/2023/05/navy_band_sw_brass_band_32nd_st.jpg
ORGANIZER;CN="LA Fleet Week":MAILTO:info@lafleetweek.org
END:VEVENT
BEGIN:VEVENT
DTSTART;TZID=America/Los_Angeles:20230526T120000
DTEND;TZID=America/Los_Angeles:20230526T130000
DTSTAMP:20260422T062909
CREATED:20230512T231002Z
LAST-MODIFIED:20230512T231002Z
UID:79077-1685102400-1685106000@lafleetweek.com
SUMMARY:Neighborhood Activation Brea: Navy Band Southwest "The Destroyers"
DESCRIPTION:Destroyers\, Navy Band Southwestâ€™s popular music group\, boasts a repertoire of high energy and varying musical styles. Their mission is to support Navy recruiting\, retention and community relations initiatives by sharing the very best music of yesterday and today. \nCatch them in Downtown Brea today at noon! \n  \nSubject to change without notice.
URL:https://lafleetweek.com/event/neighborhood-activation-brea-navy-band-southwest-the-destroyers/
LOCATION:Throughout Los Angeles Area\, Los Angeles\, CA
CATEGORIES:Public Event
ATTACH;FMTTYPE=image/jpeg:https://lafleetweek.com/wp-content/uploads/2023/04/navy_band_sw_lafw2022.jpg
ORGANIZER;CN="LA Fleet Week":MAILTO:info@lafleetweek.org
END:VEVENT
BEGIN:VEVENT
DTSTART;TZID=America/Los_Angeles:20230525T150000
DTEND;TZID=America/Los_Angeles:20230525T160000
DTSTAMP:20260422T062909
CREATED:20230512T224516Z
LAST-MODIFIED:20230512T224516Z
UID:79073-1685026800-1685030400@lafleetweek.com
SUMMARY:Neighborhood Activation Downtown LA: Marine Band San Diego
DESCRIPTION:Marine Band San Diegoâ€™s Brass BandÂ is a New Orleans-style brass band that is sure to get anyone on their feet. With all the music being arranged and written by the members of the ensemble\, this group brings a taste of the â€œBig Easyâ€ to any crowd with its traditional New Orleans brass music all the way to the hip\, top 40 music heard around the world today. \nSee them live today at 3:00 PM at LA’s landmark Union Station\, located at 800 N. Alameda St.\, LA 9012.
URL:https://lafleetweek.com/event/marine-band-sd-union-station/
LOCATION:Throughout Los Angeles Area\, Los Angeles\, CA
CATEGORIES:Public Event
ATTACH;FMTTYPE=image/jpeg:https://lafleetweek.com/wp-content/uploads/2023/04/Marine_Band_San_Diego_crop.jpg
ORGANIZER;CN="LA Fleet Week":MAILTO:info@lafleetweek.org
END:VEVENT
BEGIN:VEVENT
DTSTART;TZID=America/Los_Angeles:20230525T080000
DTEND;TZID=America/Los_Angeles:20230525T090000
DTSTAMP:20260422T062909
CREATED:20230512T223802Z
LAST-MODIFIED:20230512T223802Z
UID:79053-1685001600-1685005200@lafleetweek.com
SUMMARY:Neighborhood Activation Downtown LA: Navy Band Southwest Brass Quintet
DESCRIPTION:For a taste of music that is sure to entertain any audience\, look no further than Navy Band Southwestâ€™s Brass Quintet. This finely rehearsed group routinely performs for a wide variety of occasions\, including military ceremonies\, receptions\, educational clinics\, holiday events\, and more. \nThe Brass Quintetâ€™s musical repertoire includes ceremonial and chamber music\, childrenâ€™s favorites\, as well as popular songs from the past and present. This is a group capable of excelling at a wide array of musical venues. \nThe Brass Quintet will be performing live in Downtown LA’s historic Union Station\, located at 800 N. Alameda Street\, LA 90012.
URL:https://lafleetweek.com/event/neighborhood-activation-downtown-la-navy-band-southwest-brass-quintet/
LOCATION:Throughout Los Angeles Area\, Los Angeles\, CA
CATEGORIES:Public Event
ATTACH;FMTTYPE=image/jpeg:https://lafleetweek.com/wp-content/uploads/2023/05/navy-band-sw-brass-quintet.jpg
ORGANIZER;CN="LA Fleet Week":MAILTO:info@lafleetweek.org
END:VEVENT
BEGIN:VEVENT
DTSTART;TZID=America/Los_Angeles:20230524T130000
DTEND;TZID=America/Los_Angeles:20230524T140000
DTSTAMP:20260422T062909
CREATED:20230512T220313Z
LAST-MODIFIED:20230523T223815Z
UID:79027-1684933200-1684936800@lafleetweek.com
SUMMARY:Neighborhood Activation Hollywood: Marine Band San Diego
DESCRIPTION:Marine Band San Diegoâ€™s Brass BandÂ is a New Orleans-style brass band that is sure to get anyone on their feet. With all the music being arranged and written by the members of the ensemble\, this group brings a taste of the â€œBig Easyâ€ to any crowd with its traditional New Orleans brass music all the way to the hip\, top 40 music heard around the world today. \nSee them live today at the Original Farmers Market Plaza at 1:00 PM. \n6333 3rd Street\, Los Angeles\, 90036
URL:https://lafleetweek.com/event/hollywood-marine-band-sd/
LOCATION:Throughout Los Angeles Area\, Los Angeles\, CA
CATEGORIES:Public Event
ATTACH;FMTTYPE=image/jpeg:https://lafleetweek.com/wp-content/uploads/2023/04/Marine_Band_San_Diego_crop.jpg
ORGANIZER;CN="LA Fleet Week":MAILTO:info@lafleetweek.org
END:VEVENT
END:VCALENDAR